BEGIN:VCALENDAR
VERSION:2.0
PRODID:-//Viking Village Foods - ECPv6.15.20//NONSGML v1.0//EN
CALSCALE:GREGORIAN
METHOD:PUBLISH
X-WR-CALNAME:Viking Village Foods
X-ORIGINAL-URL:https://vikingvillagefoods.com
X-WR-CALDESC:Events for Viking Village Foods
REFRESH-INTERVAL;VALUE=DURATION:PT1H
X-Robots-Tag:noindex
X-PUBLISHED-TTL:PT1H
BEGIN:VTIMEZONE
TZID:America/Chicago
BEGIN:DAYLIGHT
TZOFFSETFROM:-0600
TZOFFSETTO:-0500
TZNAME:CDT
DTSTART:20220313T080000
END:DAYLIGHT
BEGIN:STANDARD
TZOFFSETFROM:-0500
TZOFFSETTO:-0600
TZNAME:CST
DTSTART:20221106T070000
END:STANDARD
BEGIN:DAYLIGHT
TZOFFSETFROM:-0600
TZOFFSETTO:-0500
TZNAME:CDT
DTSTART:20230312T080000
END:DAYLIGHT
BEGIN:STANDARD
TZOFFSETFROM:-0500
TZOFFSETTO:-0600
TZNAME:CST
DTSTART:20231105T070000
END:STANDARD
BEGIN:DAYLIGHT
TZOFFSETFROM:-0600
TZOFFSETTO:-0500
TZNAME:CDT
DTSTART:20240310T080000
END:DAYLIGHT
BEGIN:STANDARD
TZOFFSETFROM:-0500
TZOFFSETTO:-0600
TZNAME:CST
DTSTART:20241103T070000
END:STANDARD
BEGIN:DAYLIGHT
TZOFFSETFROM:-0600
TZOFFSETTO:-0500
TZNAME:CDT
DTSTART:20250309T080000
END:DAYLIGHT
BEGIN:STANDARD
TZOFFSETFROM:-0500
TZOFFSETTO:-0600
TZNAME:CST
DTSTART:20251102T070000
END:STANDARD
BEGIN:DAYLIGHT
TZOFFSETFROM:-0600
TZOFFSETTO:-0500
TZNAME:CDT
DTSTART:20260308T080000
END:DAYLIGHT
BEGIN:STANDARD
TZOFFSETFROM:-0500
TZOFFSETTO:-0600
TZNAME:CST
DTSTART:20261101T070000
END:STANDARD
BEGIN:DAYLIGHT
TZOFFSETFROM:-0600
TZOFFSETTO:-0500
TZNAME:CDT
DTSTART:20270314T080000
END:DAYLIGHT
BEGIN:STANDARD
TZOFFSETFROM:-0500
TZOFFSETTO:-0600
TZNAME:CST
DTSTART:20271107T070000
END:STANDARD
END:VTIMEZONE
BEGIN:VEVENT
DTSTART;TZID=America/Chicago:20260328T090000
DTEND;TZID=America/Chicago:20260328T130000
DTSTAMP:20260425T083147
CREATED:20180314T201548Z
LAST-MODIFIED:20260321T194023Z
UID:11520-1774688400-1774702800@vikingvillagefoods.com
SUMMARY:Meet The Easter Bunny
DESCRIPTION:Meet the Easter Bunny! \nHe’ll be here in the store to visit and take photos with you. \nGrownups\, remember to bring your phones or cameras to capture a special moment like this! \nThis event is FREE! \nAll we ask is a canned donation for\nthe Reedsburg Area Food Pantry. \nThe Easter Bunny loves\nto see people sharing!
URL:https://vikingvillagefoods.com/event/meet-the-easter-bunny/
LOCATION:Viking Village Foods\, 150 Viking Dr.\, Reedsburg\, WI\, 53959
CATEGORIES:Kid's Event
ATTACH;FMTTYPE=image/webp:https://vikingvillagefoods.com/wp-content/uploads/2018/03/eb-photos-event.webp
END:VEVENT
BEGIN:VEVENT
DTSTART;TZID=America/Chicago:20260221T080000
DTEND;TZID=America/Chicago:20260221T130000
DTSTAMP:20260425T083147
CREATED:20230109T174226Z
LAST-MODIFIED:20260212T143301Z
UID:28144-1771660800-1771678800@vikingvillagefoods.com
SUMMARY:Frosty Fest
DESCRIPTION:Frosty Fest at Viking Village Foods\nA Fun Annual Winter Event for Everyone!\nWhen winter is giving you a case of the “blahs”\, this weekend of fun is a sure cure. This event is held every year in February so watch our store calendar for dates. Lot’s of activities for kids\, samplings\, tastings and more are in store for you. \n2026 Frosty Fest EventsBREAKFAST WITH OLAF8am-11am\nDeli Area\nKids 2 & Under: $1\nAge 3-11: $2\, 12 & over: $4 \nCOOKIE DECORATING8:30am-1pm\nBakery Area\nAll Ages $1\nProceeds benefit Reedsburg Area Food Pantry \nSNOWBALL TOSS8:30am-1pm\nDairy Department\nParticipants receive a FREE String Cheese\nSponsored by Crystal Farms \nSATURDAY SUNDAES8:30am-1pm\nFrozen Department\nFree Event \nBAKE SALE8:00am-noon\nFront of Store\nFundraiser for Project | SEARCH. \nProject SEARCH is a 9-month program driven by businesses\, aimed at helping young adults with disabilities obtain competitive employment within their community.  Project Search provides them with hands-on training\, opportunities to explore various careers and coaching support once they obtain employment if needed. \nWe are here today to help raise funds for the Project SEARCH interns to take a field trip to the Project SEARCH site located at the Milwaukee Zoo. These visits provide experiences that can be useful in their current positions. Please help us expand their vision on what life has to offer them.
URL:https://vikingvillagefoods.com/event/frosty-fest/
LOCATION:Viking Village Foods\, 150 Viking Dr.\, Reedsburg\, WI\, 53959
CATEGORIES:Kid's Event,Special Event
ATTACH;FMTTYPE=image/webp:https://vikingvillagefoods.com/wp-content/uploads/2023/01/frostry-fest-26-event.webp
END:VEVENT
BEGIN:VEVENT
DTSTART;TZID=America/Chicago:20251004T090000
DTEND;TZID=America/Chicago:20251004T130000
DTSTAMP:20260425T083147
CREATED:20250925T115412Z
LAST-MODIFIED:20250925T115913Z
UID:38066-1759568400-1759582800@vikingvillagefoods.com
SUMMARY:Kid's Cookie Decorating
DESCRIPTION:Decorate Your Own Cookie! \nSaturday\nOctober 4th\n9am-1pm \nKid’s are welcome to decorate their very own cookie. We’ll have everything set up near the Bakery with all the goodies you’ll need – colored buttercream frostings\, sprinkles\, and decorations. \nProceeds go to the Reedsburg Food Pantry.
URL:https://vikingvillagefoods.com/event/kids-cookie-decorating/
LOCATION:Viking Village Foods\, 150 Viking Dr.\, Reedsburg\, WI\, 53959
CATEGORIES:Kid's Event
ATTACH;FMTTYPE=image/webp:https://vikingvillagefoods.com/wp-content/uploads/2025/09/hf-kids-cookie-decorating-96.webp
END:VEVENT
BEGIN:VEVENT
DTSTART;TZID=America/Chicago:20250726T093000
DTEND;TZID=America/Chicago:20250726T100000
DTSTAMP:20260425T083147
CREATED:20240715T171012Z
LAST-MODIFIED:20250726T120458Z
UID:33163-1753522200-1753524000@vikingvillagefoods.com
SUMMARY:Cake Eating Contest
DESCRIPTION:Reedikulus Days Cake Eating Contest!\n3 Adult and 3 Kids Contests\nKids Contest is for 12 yrs. and under. \nHeld after each Ball Drop\nnear the Viking Village Deli Entrance \nFriday\, July 25th 10:30am\nFriday\, July 25th 2:30pm\nSaturday\, July 26th 9:30am \nEach contest is limited to the first 12 who sign up.\nGet registered early at Viking Village Foods Service Counter. \nBe the first to finish your 4” slice\nof cake with Reedikulus frosting! \n1st place $50 gift card\n2nd place $25 gift card\n3rd place $10 gift card
URL:https://vikingvillagefoods.com/event/cake-eating-contest-2/
LOCATION:Viking Village Foods\, 150 Viking Dr.\, Reedsburg\, WI\, 53959
CATEGORIES:Kid's Event,Special Event
ATTACH;FMTTYPE=image/webp:https://vikingvillagefoods.com/wp-content/uploads/2024/07/rd25-cake-eating-96.webp
END:VEVENT
BEGIN:VEVENT
DTSTART;TZID=America/Chicago:20250726T090000
DTEND;TZID=America/Chicago:20250726T093000
DTSTAMP:20260425T083147
CREATED:20230619T151311Z
LAST-MODIFIED:20250726T120906Z
UID:29782-1753520400-1753522200@vikingvillagefoods.com
SUMMARY:Airplane Ball Drop
DESCRIPTION:40th Annual Kids Airplane Ball Drop\nThe experience of this annual event held this year for the 40th time will live in the minds of many local children and is still remembered by those who are now grown adults. \nWaiting and watching the skies for the first glimpse of the plane. Then all at once\, the balls are released and drop to the ground below where they are eagerly grabbed up with the anticipation of redeeming a ball for a prize! \n \nThree Ball DropsFRIDAY 10AM\nFRIDAY 2PM\nSATURDAY 9AM\n\nAt the designated times make sure you are out in front of Viking Village Foods. \nAll children aged 11 and under are invited to participate.\nEvery child receives a prize! \nThis free event is sponsored by Viking Village Foods\, Bill Pierce & Reedsburg Aviation. \n \nViking Village Foods…committed to making a difference in our community. \nReedikulus Days at Viking Village Foods\nAlso taking place this weekend is our specially priced Reedikulus Days Viking Cookout Stand on Friday & Saturday from 9am to 3pm. \nOur second of the season Produce Sale will be on Saturday from 8am to 6pm. \nBe sure to check out the WEEKLY AD for that week for selections and pricing on produce items and more! \n 
URL:https://vikingvillagefoods.com/event/airplane-ball-drop-2/
LOCATION:Viking Village Foods\, 150 Viking Dr.\, Reedsburg\, WI\, 53959
CATEGORIES:Kid's Event
ATTACH;FMTTYPE=image/jpeg:https://vikingvillagefoods.com/wp-content/uploads/2018/06/ball-drop-21-96c.jpg
END:VEVENT
BEGIN:VEVENT
DTSTART;VALUE=DATE:20250725
DTEND;VALUE=DATE:20250727
DTSTAMP:20260425T083147
CREATED:20230730T120947Z
LAST-MODIFIED:20250710T130203Z
UID:30223-1753401600-1753574399@vikingvillagefoods.com
SUMMARY:Reedikulus Days
DESCRIPTION:Annual Reedikulus Days\nReedikulus Days is held on the last weekend of July every year. Fun for the whole family! \nAirplane Ball Drop\nFriday 10:00am\nFriday 2:00pm\nSaturday 9:00am \nEVENT DETAILS \n \nCake Eating Contest\nFriday 10:30am\nFriday 2:20pm\nSaturday 9:30am \nEVENT DETAILS \n \nViking Grille Cookout\nFriday & Saturday\n9am-3pm \n\n\n\nPork Sandwiches\n$2.00\n\n\nHamburgers\n$2.00\n\n\nBrats\n$2.00\n\n\nHot Dogs\n$1.00\n\n\nSoda*\n$1.00\n\n\nWater\n$.50\n\n\n\n \nReedikulus Produce Sale\nSaturday 8am-6pm \nDetails on sale items will be available in the Weekly Ad the week of the event. \n \nReedikulus Fun!\nMaking fun memories…It’s the Viking Way!
URL:https://vikingvillagefoods.com/event/reedikulus-days/
LOCATION:Viking Village Foods\, 150 Viking Dr.\, Reedsburg\, WI\, 53959
CATEGORIES:Kid's Event,Special Event
ATTACH;FMTTYPE=image/jpeg:https://vikingvillagefoods.com/wp-content/uploads/2017/12/reedikulus-days-22-96c.jpg
END:VEVENT
BEGIN:VEVENT
DTSTART;TZID=America/Chicago:20231028T090000
DTEND;TZID=America/Chicago:20231028T120000
DTSTAMP:20260425T083147
CREATED:20221004T184737Z
LAST-MODIFIED:20231019T174436Z
UID:27256-1698483600-1698494400@vikingvillagefoods.com
SUMMARY:Kids Halloween Fun
DESCRIPTION:Kids Halloween Photos\nBring your kids\, dressed in their Halloween best\, and snap your own spooktacular photos for treasured memories of Halloween 2023! \nKid’s Halloween Photos is FREE\, we just ask that you bring a canned good donation for the Reedsburg Area Food Pantry. \nThis event will be outside in front of the store if weather permits\, otherwise it will be held inside. \n& Cookie Decorating\nKids\, frost and decorate your own pumpkin shaped cookie. We’ll supply everything needed to create this tasty treat with cookies fresh from our bakery. \nDecorate you own cookie for $1. Proceeds go to the Reedsburg Area Food Pantry \nThis event will be outside in front of the store if weather permits\, otherwise it will be held inside.
URL:https://vikingvillagefoods.com/event/kids-halloween-fun/
LOCATION:Viking Village Foods\, 150 Viking Dr.\, Reedsburg\, WI\, 53959
CATEGORIES:Kid's Event,Special Event
ATTACH;FMTTYPE=image/jpeg:https://vikingvillagefoods.com/wp-content/uploads/2022/10/kids-halloween-96c.jpg
END:VEVENT
END:VCALENDAR